BEGIN:VCALENDAR
PRODID:-//AT Content Types//AT Event//EN
VERSION:1.0
BEGIN:VEVENT
DTSTART:20160513T090000Z
DTEND:20160513T110000Z
DCREATED:20160428T150726Z
UID:ATEvent-49aa4329ef5f4d9abfbf4abb30f954ce
SEQUENCE:0
LAST-MODIFIED:20160428T153306Z
SUMMARY:SEMINARIO. I cambiamenti politici della Spagna contemporanea
LOCATION:Aula 7 / Sede SPOCRI di via Don Minzoni 22A / Macerata
PRIORITY:3
TRANSP:0
END:VEVENT
END:VCALENDAR
