BEGIN:VCALENDAR
PRODID:-//AT Content Types//AT Event//EN
VERSION:1.0
BEGIN:VEVENT
DTSTART:20140403T090000Z
DTEND:20140403T110000Z
DCREATED:20140312T135824Z
UID:ATEvent-a6c7054b2e774854af639fae81217e63
SEQUENCE:0
LAST-MODIFIED:20140320T115927Z
SUMMARY:SEMINARIO. Il Presidente della Repubblica  o la Repubblica del Presidente
LOCATION:Aula Magna\, piaggia dell'università 2\, Macerata
PRIORITY:3
TRANSP:0
END:VEVENT
END:VCALENDAR
