BEGIN:VCALENDAR
PRODID:-//AT Content Types//AT Event//EN
VERSION:1.0
BEGIN:VEVENT
DTSTART:20170323T100000Z
DTEND:20170323T120000Z
DCREATED:20170314T102712Z
UID:ATEvent-a4389a3c1f594965a46d60d0245cc128
SEQUENCE:0
LAST-MODIFIED:20170314T103301Z
SUMMARY:SEMINARIO. Il sistema delle indagini sociali dell'ISTAT\: metodo\, organizzazione\, risultati
LOCATION:aula A / Sede SPOCRI di piazza Strambi 1 / Macerata
PRIORITY:3
TRANSP:0
END:VEVENT
END:VCALENDAR
