BEGIN:VCALENDAR
PRODID:-//AT Content Types//AT Event//EN
VERSION:2.0
METHOD:PUBLISH
BEGIN:VEVENT
DTSTAMP:20260419T161348Z
CREATED:20140524T190313Z
UID:ATEvent-b46acac2090643a5a2aa38ed120e6fb6
LAST-MODIFIED:20140524T190335Z
SUMMARY:SEMINARIO. Il sistema delle municipalizzate\: utenti o consumatori?
DTSTART:20140530T080000Z
DTEND:20140524T110000Z
LOCATION:Aula Abside\, Sede di Piazza Strambi 1\, Macerata
CATEGORIES:seminario didattico
CONTACT:Piero Bertini\, +39 0733 258.2777\, pierluigi.bertini@unimc.it
CLASS:PUBLIC
END:VEVENT
END:VCALENDAR
