BEGIN:VCALENDAR
PRODID:-//AT Content Types//AT Event//EN
VERSION:1.0
BEGIN:VEVENT
DTSTART:20161123T133000Z
DTEND:20161123T160000Z
DCREATED:20161117T105343Z
UID:ATEvent-daf4316d38c14b36a8b14ef84559c22b
SEQUENCE:0
LAST-MODIFIED:20161117T105421Z
SUMMARY:SEMINARIO. Il testo di legge costituzionale recante “Disposizioni per il superamento del bicameralismo paritario\, la riduzione del numero dei parlamentari\, il contenimento dei costi di funzionamento delle istituzioni\, la soppressione del CNEL e la revisio
LOCATION:aula A / sede SPOCRI di piazza Strambi 1 / Macerata
PRIORITY:3
TRANSP:0
END:VEVENT
END:VCALENDAR
