BEGIN:VCALENDAR
PRODID:-//AT Content Types//AT Event//EN
VERSION:1.0
BEGIN:VEVENT
DTSTART:20131025T080000Z
DTEND:20131025T080000Z
DCREATED:20131017T090122Z
UID:ATEvent-574677db7c0c45399b1328efb260dda5
SEQUENCE:0
LAST-MODIFIED:20131017T090132Z
SUMMARY:SEMINARIO. L’Europa\, la scuola e l’educazione al consumo\: consumer classroom
LOCATION:Aula Abside\, piazza Strambi\, UniMc
PRIORITY:3
TRANSP:0
END:VEVENT
END:VCALENDAR
