BEGIN:VCALENDAR
PRODID:-//AT Content Types//AT Event//EN
VERSION:2.0
METHOD:PUBLISH
BEGIN:VEVENT
DTSTAMP:20260419T161348Z
CREATED:20160512T131834Z
UID:ATEvent-82ae9e5089764e98ad7ec7816b708940
LAST-MODIFIED:20160512T131920Z
SUMMARY:SEMINARIO. La riforma costituzionale. Le ragioni del "SI" e le ragioni del "NO"
DTSTART:20160517T130000Z
DTEND:20160517T160000Z
LOCATION:Aula Abside / Sede SPOCRI di piazza Strambi 1 / 62100 Macerata
CATEGORIES:seminario didattico
CONTACT:Piero Bertini\, +39 0733 258.2777\, pierluigi.bertini@unimc.it
CLASS:PUBLIC
END:VEVENT
END:VCALENDAR
