BEGIN:VCALENDAR
PRODID:-//AT Content Types//AT Event//EN
VERSION:2.0
METHOD:PUBLISH
BEGIN:VEVENT
DTSTAMP:20260419T161626Z
CREATED:20141001T155933Z
UID:ATEvent-b5a47d001351474593f718b2166e7a09
LAST-MODIFIED:20141001T160419Z
SUMMARY:SEMINARIO. La trasparenza  della PA sul web. Le nuove linee guida  del Garante Privacy
DTSTART:20141010T080000Z
DTEND:20141010T110000Z
LOCATION:Aula Magna\, Università degli Studi\, piaggia dell'Università 2\, Macerata
CATEGORIES:seminario didattico
CONTACT:Piero Bertini\, +39 0733 258.2777\, pierluigi.bertini@unimc.it
CLASS:PUBLIC
END:VEVENT
END:VCALENDAR
