BEGIN:VCALENDAR
PRODID:-//AT Content Types//AT Event//EN
VERSION:2.0
METHOD:PUBLISH
BEGIN:VEVENT
DTSTAMP:20260419T161713Z
CREATED:20140305T094550Z
UID:ATEvent-30d5f99ad99642939e751b2aada0ded6
LAST-MODIFIED:20140305T094559Z
SUMMARY:SEMINARIO. Le associazioni di tutela dei consumatori\: la Federconsumatori e la qualità alimentare
DTSTART:20140314T090000Z
DTEND:20140314T120000Z
LOCATION:Aula 6\, Sede di via Don Minzoni 2\, Macerata
CATEGORIES:seminario didattico
CONTACT:Piero Bertini\, +39 0733 258.2777\, pierluigi.bertini@unimc.it
CLASS:PUBLIC
END:VEVENT
END:VCALENDAR
