BEGIN:VCALENDAR
PRODID:-//AT Content Types//AT Event//EN
VERSION:1.0
BEGIN:VEVENT
DTSTART:20131129T090000Z
DTEND:20131129T110000Z
DCREATED:20131120T083006Z
UID:ATEvent-c4c5614a283e4f05948cc93daae3fb66
SEQUENCE:0
LAST-MODIFIED:20131120T120941Z
SUMMARY:SEMINARIO. Le associazioni di tutela dei consumatori\: la Federconsumatori e la sicurezza alimentare
LOCATION:Aula 6\, via Don Minzoni 2\, Macerata
PRIORITY:3
TRANSP:0
END:VEVENT
END:VCALENDAR
