BEGIN:VCALENDAR
PRODID:-//AT Content Types//AT Event//EN
VERSION:2.0
METHOD:PUBLISH
BEGIN:VEVENT
DTSTAMP:20260419T161843Z
CREATED:20170420T094816Z
UID:ATEvent-8b2a835ed3af4e658a269e761c6d3964
LAST-MODIFIED:20170420T094852Z
SUMMARY:SEMINARIO. Le fonti orali come fonte di documentazione per la ricerca\: la metodologia di conduzione delle interviste
DTSTART:20170508T120000Z
DTEND:20170508T140000Z
LOCATION:aula 2 / sede SPOCRI di via Don Minzoni 22/A / Unimc / Macerata
CATEGORIES:seminario didattico
CONTACT:Piero Bertini\, +39 0733 258.2777\, pierluigi.bertini@unimc.it
CLASS:PUBLIC
END:VEVENT
END:VCALENDAR
