BEGIN:VCALENDAR
PRODID:-//AT Content Types//AT Event//EN
VERSION:2.0
METHOD:PUBLISH
BEGIN:VEVENT
DTSTAMP:20260419T161842Z
CREATED:20150324T094837Z
UID:ATEvent-25bd035be6ad4d6fbb52057412c5dd1c
LAST-MODIFIED:20150324T095353Z
SUMMARY:SEMINARIO. Le istanze regionali nel 'nuovo' Senato\, tra composizione\, leggi elettorali regionali e giurisprudenza costituzionale in materia elettorale
DTSTART:20150401T090000Z
DTEND:20150401T110000Z
LOCATION:Aula Abside\, Sede di piazza Strambi 1\, UniMc\, Macerata
CATEGORIES:seminario didattico
CONTACT:Piero Bertini\, +39 0733 258.2777\, pierluigi.bertini@unimc.it
CLASS:PUBLIC
END:VEVENT
END:VCALENDAR
