BEGIN:VCALENDAR
PRODID:-//AT Content Types//AT Event//EN
VERSION:1.0
BEGIN:VEVENT
DTSTART:20170328T150000Z
DTEND:20170328T170000Z
DCREATED:20170228T104422Z
UID:ATEvent-68472a1f443749b4985338ac0ebd8a93
SEQUENCE:0
LAST-MODIFIED:20170228T104820Z
SUMMARY:SEMINARIO. Le migrazioni contemporanee. Esperienze di ricerca
LOCATION:aula 1bis / sede SPOCRI di via Don Minzoni 22/A / Unimc / Macerata
PRIORITY:3
TRANSP:0
END:VEVENT
END:VCALENDAR
