BEGIN:VCALENDAR
PRODID:-//AT Content Types//AT Event//EN
VERSION:2.0
METHOD:PUBLISH
BEGIN:VEVENT
DTSTAMP:20260419T161904Z
CREATED:20150327T184624Z
UID:ATEvent-e4ce34f54eeb42e7878940189911a449
LAST-MODIFIED:20150327T184729Z
SUMMARY:SEMINARIO. L'Europa\, la comunicazione politica e la grande crisi economica
DTSTART:20150331T140000Z
DTEND:20150327T160000Z
LOCATION:Aula 6\, Sede SPOCRI di via Don Minzoni 2 / UniMc
CATEGORIES:seminario didattico
CONTACT:Piero Bertini\, +39 0733 258.2777\, pierluigi.bertini@unimc.it
CLASS:PUBLIC
END:VEVENT
END:VCALENDAR
