BEGIN:VCALENDAR
PRODID:-//AT Content Types//AT Event//EN
VERSION:2.0
METHOD:PUBLISH
BEGIN:VEVENT
DTSTAMP:20260419T161435Z
CREATED:20131107T151115Z
UID:ATEvent-8cfcc1d2fba34344b9630595af265d1a
LAST-MODIFIED:20131107T151157Z
SUMMARY:SEMINARIO. L'evoluzione dell'informazione e comunicazione digitale nel settore forense
DTSTART:20131118T131500Z
DTEND:20131118T160000Z
LOCATION:Aula 7\, via Don Minzoni
CATEGORIES:seminario didattico
CONTACT:Piero Bertini\, +39 0733 258.2777\, pierluigi.bertini@unimc.it
CLASS:PUBLIC
END:VEVENT
END:VCALENDAR
