BEGIN:VCALENDAR
PRODID:-//AT Content Types//AT Event//EN
VERSION:2.0
METHOD:PUBLISH
BEGIN:VEVENT
DTSTAMP:20260419T160930Z
CREATED:20170329T093129Z
UID:ATEvent-777539eabe7c46daa9abe9550c7be62e
LAST-MODIFIED:20170329T093217Z
SUMMARY:SEMINARIO. Methodological Issues in Social Research
DTSTART:20170406T060000Z
DTEND:20170406T100000Z
LOCATION:Aula 3 / Sede SFBCT / Polo Bertelli 1 / Macerata
CATEGORIES:seminario didattico
CONTACT:Piero Bertini\, +39 0733 258.2777\, pierluigi.bertini@unimc.it
CLASS:PUBLIC
END:VEVENT
END:VCALENDAR
