BEGIN:VCALENDAR
PRODID:-//AT Content Types//AT Event//EN
VERSION:2.0
METHOD:PUBLISH
BEGIN:VEVENT
DTSTAMP:20260419T161713Z
CREATED:20170403T135952Z
UID:ATEvent-93db257a426a47ffbef03522a0c0257b
LAST-MODIFIED:20170403T140029Z
SUMMARY:SEMINARIO. Misure del progresso al di là del PIL\: il benessere equo e sostenibile
DTSTART:20170412T090000Z
DTEND:20170412T110000Z
LOCATION:Aula 1.3 / UniMC / Palazzo Ciccolini
CATEGORIES:seminario didattico
CONTACT:Piero Bertini\, +39 0733 258.2777\, pierluigi.bertini@unimc.it
CLASS:PUBLIC
END:VEVENT
END:VCALENDAR
