BEGIN:VCALENDAR
PRODID:-//AT Content Types//AT Event//EN
VERSION:2.0
METHOD:PUBLISH
BEGIN:VEVENT
DTSTAMP:20260419T161348Z
CREATED:20151125T153857Z
UID:ATEvent-35dff4c867be480a90c3aa7e0108971a
LAST-MODIFIED:20151125T154801Z
SUMMARY:SEMINARIO. "Once upon a time in the middle East". Cosa ne sarà della Siria?
DTSTART:20151211T150000Z
DTEND:20151211T170000Z
LOCATION:Aula 3 / Sede SPOCRI di via Don Minzoni 22/a / Macerata
CATEGORIES:seminario didattico
CONTACT:Piero Bertini\, +39 0733 258.2777\, pierluigi.bertini@unimc.it
CLASS:PUBLIC
END:VEVENT
END:VCALENDAR
