BEGIN:VCALENDAR
PRODID:-//AT Content Types//AT Event//EN
VERSION:1.0
BEGIN:VEVENT
DTSTART:20140318T130000Z
DTEND:20140319T120000Z
DCREATED:20140305T103630Z
UID:ATEvent-db4f88255fbc4e5aa16ae6cc442a98ff
SEQUENCE:0
LAST-MODIFIED:20140305T104948Z
SUMMARY:SEMINARIO. Realtà o finzione\: che succede nella letteratura italiana o contemporanea?
LOCATION:Aula 1\, sede di via Don Minzoni 2\, Macerata
PRIORITY:3
TRANSP:0
END:VEVENT
END:VCALENDAR
