BEGIN:VCALENDAR
PRODID:-//AT Content Types//AT Event//EN
VERSION:2.0
METHOD:PUBLISH
BEGIN:VEVENT
DTSTAMP:20260419T161100Z
CREATED:20140507T100122Z
UID:ATEvent-9f21927e1a9b45cab2f585cfb1d34a60
LAST-MODIFIED:20140507T100249Z
SUMMARY:SEMINARIO. Shoah e negazionismo
DTSTART:20140514T130000Z
DTEND:20140514T170000Z
LOCATION:Aula 3\, Sede di via Don Minzoni\, Macerata
CATEGORIES:seminario didattico
CONTACT:Piero Bertini\, +39 0733 258.2777\, pierluigi.bertini@unimc.it
CLASS:PUBLIC
END:VEVENT
END:VCALENDAR
