BEGIN:VCALENDAR
PRODID:-//AT Content Types//AT Event//EN
VERSION:1.0
BEGIN:VEVENT
DTSTART:20150417T150000Z
DTEND:20150417T180000Z
DCREATED:20150409T194828Z
UID:ATEvent-37d82c3b8ba94a1b9298daf54bca6849
SEQUENCE:0
LAST-MODIFIED:20150409T194943Z
SUMMARY:SEMINARIO. Sogni e bisogni. Comunicazione\, cultura\, democrazia
LOCATION:Aula Abside\, Sede di piazza Strambi 1\, UniMc\, Macerata
PRIORITY:3
TRANSP:0
END:VEVENT
END:VCALENDAR
