BEGIN:VCALENDAR
PRODID:-//AT Content Types//AT Event//EN
VERSION:2.0
METHOD:PUBLISH
BEGIN:VEVENT
DTSTAMP:20260419T161707Z
CREATED:20140403T102158Z
UID:ATEvent-8e9dd4ab06a0439a80cb0fbc1cc335a5
LAST-MODIFIED:20140403T102244Z
SUMMARY:SEMINARIO. South Africa in the XX Century\: An Overview
DTSTART:20140410T150000Z
DTEND:20140410T173000Z
LOCATION:Aula Abside\, sede di piazza Strambi 1\, Macerata
CATEGORIES:seminario didattico
CONTACT:piero Bertini\, +39 0733 258.2777\, pierluigi.bertini@unimc.it
CLASS:PUBLIC
END:VEVENT
END:VCALENDAR
