BEGIN:VCALENDAR
PRODID:-//AT Content Types//AT Event//EN
VERSION:1.0
BEGIN:VEVENT
DTSTART:20160504T070000Z
DTEND:20160504T090000Z
DCREATED:20160421T164439Z
UID:ATEvent-87e0f002fc07437883bb261b0a9b80bb
SEQUENCE:0
LAST-MODIFIED:20160421T164500Z
SUMMARY:SEMINARIO. Stereotipi e prototipi\: approcci statistici per l'identificazione di profili
LOCATION:Aula Abside / Sede SPOCRI di piazza Strambi 1 / 62100 Macerata
PRIORITY:3
TRANSP:0
END:VEVENT
END:VCALENDAR
