BEGIN:VCALENDAR
PRODID:-//AT Content Types//AT Event//EN
VERSION:1.0
BEGIN:VEVENT
DTSTART:20160531T080000Z
DTEND:20160531T110000Z
DCREATED:20160524T151058Z
UID:ATEvent-8671eb2f281a4feca71f981f2ad85a55
SEQUENCE:0
LAST-MODIFIED:20160524T151948Z
SUMMARY:SEMINARIO. Strategie della comunicazione politica
LOCATION:Aula 4 / Sede SPOCRI di via Don Minzoni 22A / Macerat
PRIORITY:3
TRANSP:0
END:VEVENT
END:VCALENDAR
