BEGIN:VCALENDAR
PRODID:-//AT Content Types//AT Event//EN
VERSION:2.0
METHOD:PUBLISH
BEGIN:VEVENT
DTSTAMP:20260419T161744Z
CREATED:20140429T093003Z
UID:ATEvent-d53324952c314a58aa5d7c93f7bdebcc
LAST-MODIFIED:20140429T093250Z
SUMMARY:SEMINARIO. Sviluppo economico\, profili culturali e scambi interuniversitari\: Russia\, Italia e Regione Marche
DTSTART:20140505T133000Z
DTEND:20140505T170000Z
LOCATION:Aula Abside\, Sede di piazza Strambi 1\, Macerata
CATEGORIES:seminario didattico
CONTACT:Piero Bertini\, +39 0733 258.2777\, pierluigi.bertini@unimc.it
CLASS:PUBLIC
END:VEVENT
END:VCALENDAR
