BEGIN:VCALENDAR
PRODID:-//AT Content Types//AT Event//EN
VERSION:1.0
BEGIN:VEVENT
DTSTART:20140318T150000Z
DTEND:20140318T190000Z
DCREATED:20140312T111621Z
UID:ATEvent-1818c0c6b68d4d4abdd67f1002d95293
SEQUENCE:0
LAST-MODIFIED:20140317T194033Z
SUMMARY:SEMINARIO. The gulag as a system
LOCATION:Aula Verde\, Polo Pantaleoni\, via Pescheria vecchia\, Macerata
PRIORITY:3
TRANSP:0
END:VEVENT
END:VCALENDAR
