BEGIN:VCALENDAR
PRODID:-//AT Content Types//AT Event//EN
VERSION:2.0
METHOD:PUBLISH
BEGIN:VEVENT
DTSTAMP:20260419T161430Z
CREATED:20170330T071511Z
UID:ATEvent-376fb38dc3404054aa759333ab0a1114
LAST-MODIFIED:20170330T071548Z
SUMMARY:SEMINARIO. The headless horseman\: the methodology problem in psychology people's need's and psychology
DTSTART:20170419T070000Z
DTEND:20170419T090000Z
LOCATION:aula 7 / sede SPOCRI di via Don Minzoni 22/A / Unimc / Macerata
CATEGORIES:seminario didattico
CONTACT:Piero Bertini\, +39 0733 258.2777\, pierluigi.bertini@unimc.it
CLASS:PUBLIC
END:VEVENT
END:VCALENDAR
