BEGIN:VCALENDAR
PRODID:-//AT Content Types//AT Event//EN
VERSION:1.0
BEGIN:VEVENT
DTSTART:20170623T130000Z
DTEND:20170623T150000Z
DCREATED:20170620T141841Z
UID:ATEvent-18cb67b805f64b1eb3623b416a6da0bb
SEQUENCE:0
LAST-MODIFIED:20170620T141943Z
SUMMARY:SEMINARIO. Trasparenza amministrativa e reputazione
LOCATION:aula 6 / sede SPOCRI di via Don Minzoni 22/A / Unimc / Macerata
PRIORITY:3
TRANSP:0
END:VEVENT
END:VCALENDAR
