BEGIN:VCALENDAR
PRODID:-//AT Content Types//AT Event//EN
VERSION:2.0
METHOD:PUBLISH
BEGIN:VEVENT
DTSTAMP:20260419T161005Z
CREATED:20131031T121131Z
UID:ATEvent-dcace60f75f8456781185f27cb137c38
LAST-MODIFIED:20140128T135311Z
SUMMARY:SEMINARIO. Una repubblica che (non) cambia
DTSTART:20131121T134500Z
DTEND:20131121T160000Z
LOCATION:Aula Magna dell'Ateneo\, piaggia dell'università 1
CATEGORIES:seminario didattico
CONTACT:Piero Bertini\, +39 0733 258.2777\, pierluigi.bertini@unimc.it
CLASS:PUBLIC
END:VEVENT
END:VCALENDAR
