BEGIN:VCALENDAR
PRODID:-//AT Content Types//AT Event//EN
VERSION:1.0
BEGIN:VEVENT
DTSTART:20161110T150000Z
DTEND:20161110T180000Z
DCREATED:20161108T133721Z
UID:ATEvent-94a9bb9764644e0ba3a7fbc0df6609b0
SEQUENCE:0
LAST-MODIFIED:20161110T114352Z
SUMMARY:SEMINARIO. Utilizzo strategico  dei social media in contesti  non convenzionali. Il caso eccellente  della Rete Banco Alimentare
LOCATION:Aula 6 / Sede SPOCRI di via Don Minzoni 22/A / Macerata
PRIORITY:3
TRANSP:0
END:VEVENT
END:VCALENDAR
