BEGIN:VCALENDAR
PRODID:-//AT Content Types//AT Event//EN
VERSION:1.0
BEGIN:VEVENT
DTSTART:20170509T150000Z
DTEND:20170510T090000Z
DCREATED:20170506T112443Z
UID:ATEvent-980c37569b7346fcbbc199392342b418
SEQUENCE:0
LAST-MODIFIED:20170506T112802Z
SUMMARY:SEMINARS. BUSINESS COMMUNICATIONS IN A GLOBAL ENVIRONMENT\: PSYCHOLOGY AND THE ART OF INTERACTION
LOCATION:Aula C / Sede di piazza Strambi 1 / Macerata
PRIORITY:3
TRANSP:0
END:VEVENT
END:VCALENDAR
