BEGIN:VCALENDAR
PRODID:-//AT Content Types//AT Event//EN
VERSION:2.0
METHOD:PUBLISH
BEGIN:VEVENT
DTSTAMP:20260419T161430Z
CREATED:20131016T135633Z
UID:ATEvent-369fbc6423cb4baa8212e287fce9fb5f
LAST-MODIFIED:20131114T110638Z
SUMMARY:SEMINARS. Double degree with "Taras Shevchenko" National  University of Kiev (Ukraine)
DTSTART:20131029T160000Z
DTEND:20131030T100000Z
LOCATION:Aula Abside (piazza Strambi\, 1)\, Aula 3 (via Don Minzoni)
CATEGORIES:seminario didattico
CONTACT:Piero Bertini\, +39 0731 258.2777\, bertini@unimc.it
CLASS:PUBLIC
END:VEVENT
END:VCALENDAR
