BEGIN:VCALENDAR
PRODID:-//AT Content Types//AT Event//EN
VERSION:2.0
METHOD:PUBLISH
BEGIN:VEVENT
DTSTAMP:20260419T160930Z
CREATED:20161025T132917Z
UID:ATEvent-4fefa92da5df432ca81f0093e362c2fc
LAST-MODIFIED:20161130T090711Z
SUMMARY:SEMINARS
DTSTART:20161026T130000Z
DTEND:20161103T110000Z
LOCATION:Aula 11 e Aula 3 / Dip. Giurisprudenza / Macerata
CATEGORIES:seminario didattico
CONTACT:Piero Bertini\, +39 0733 258.2777\, pierluigi.bertini@unimc.it
CLASS:PUBLIC
END:VEVENT
END:VCALENDAR
