BEGIN:VCALENDAR
PRODID:-//AT Content Types//AT Event//EN
VERSION:1.0
BEGIN:VEVENT
DTSTART:20180412T090000Z
DTEND:20180412T110000Z
DCREATED:20180410T102751Z
UID:ATEvent-b6ceb569011e4953b0452719d7601465
SEQUENCE:0
LAST-MODIFIED:20180410T103140Z
SUMMARY:Tavola Rotonda - Polìtica Y Sociedad
DESCRIPTION:Corso di Filosofia Politica
LOCATION:Aula 1/bis (4 piano) Via Don Minzoni\, 22/A Macerata
PRIORITY:3
TRANSP:0
END:VEVENT
END:VCALENDAR
