BEGIN:VCALENDAR
PRODID:-//AT Content Types//AT Event//EN
VERSION:2.0
METHOD:PUBLISH
BEGIN:VEVENT
DTSTAMP:20260419T143400Z
CREATED:20180301T104320Z
UID:ATEvent-3c67f46e794747babc7ef66719ea6934
LAST-MODIFIED:20180704T134544Z
SUMMARY:The International Protection of Refugees and Asylum Seekers
DTSTART:20180312T150000Z
DTEND:20180312T170000Z
DESCRIPTION:Nell'ambito del corso di International Human Rights - \ndo
 tt.ssa Laura Salvadego
LOCATION:Aula 6\, Via Don Minzoni\, 22/A - Macerata
CATEGORIES:seminario didattico
CLASS:PUBLIC
END:VEVENT
END:VCALENDAR
